BEGIN:VCALENDAR
VERSION:2.0
PRODID:-//DIOCESI DI ROMA - ECPv4.6.14.1//NONSGML v1.0//EN
CALSCALE:GREGORIAN
METHOD:PUBLISH
X-WR-CALNAME:DIOCESI DI ROMA
X-ORIGINAL-URL:https://www.diocesidiroma.it
X-WR-CALDESC:Eventi per DIOCESI DI ROMA
BEGIN:VEVENT
DTSTART;TZID=Europe/Rome:20180615T190000
DTEND;TZID=Europe/Rome:20180615T190000
DTSTAMP:20260422T145755
CREATED:20180608T112822Z
LAST-MODIFIED:20180608T112822Z
UID:3451-1529089200-1529089200@www.diocesidiroma.it
SUMMARY:Ore 19\,00 Messa nella Parrocchia di S. Giulia Billiart.
DESCRIPTION:Ore 19\,00 celebra la Messa nella Parrocchia di S. Giulia Billiart. \n  \n
URL:https://www.diocesidiroma.it/event/ore-1900-messa-nella-parrocchia-di-s-giulia-billiart/
CATEGORIES:NON USARE --- Agenda del Vicario
END:VEVENT
END:VCALENDAR