BEGIN:VCALENDAR
VERSION:2.0
PRODID:-//DIOCESI DI ROMA - ECPv4.6.14.1//NONSGML v1.0//EN
CALSCALE:GREGORIAN
METHOD:PUBLISH
X-WR-CALNAME:DIOCESI DI ROMA
X-ORIGINAL-URL:https://www.diocesidiroma.it
X-WR-CALDESC:Eventi per DIOCESI DI ROMA
BEGIN:VEVENT
DTSTART;TZID=Europe/Rome:20180619T190000
DTEND;TZID=Europe/Rome:20180619T190000
DTSTAMP:20260420T224736
CREATED:20180615T072533Z
LAST-MODIFIED:20180615T072544Z
UID:3630-1529434800-1529434800@www.diocesidiroma.it
SUMMARY:Ore 19\,00 Messa Parrocchia di S. Romualdo ...
DESCRIPTION:Ore 19\,00 celebra la Messa nella Parrocchia di S. Romualdo Abate in occasione della festa patronale. \n  \n
URL:https://www.diocesidiroma.it/event/ore-1900-messa-parrocchia-di-s-romualdo/
CATEGORIES:NON USARE --- Agenda del Vicario
END:VEVENT
END:VCALENDAR