BEGIN:VCALENDAR
VERSION:2.0
PRODID:-//DIOCESI DI ROMA - ECPv4.6.14.1//NONSGML v1.0//EN
CALSCALE:GREGORIAN
METHOD:PUBLISH
X-WR-CALNAME:DIOCESI DI ROMA
X-ORIGINAL-URL:https://www.diocesidiroma.it
X-WR-CALDESC:Eventi per DIOCESI DI ROMA
BEGIN:VEVENT
DTSTART;TZID=Europe/Rome:20180603T180000
DTEND;TZID=Europe/Rome:20180603T180000
DTSTAMP:20260424T020433
CREATED:20180525T083757Z
LAST-MODIFIED:20180525T095758Z
UID:3207-1528048800-1528048800@www.diocesidiroma.it
SUMMARY:Ore 18\,00 Nella Piazza antistante la Parrocchia di Santa Monica a Ostia partecipa alla Messa presieduta da Papa Francesco per la solennità del Corpus Domini.
DESCRIPTION:Ore 18\,00 Nella Piazza antistante la Parrocchia di Santa Monica a Ostia partecipa alla Messa presieduta da Papa Francesco per la solennità del Corpus Domini. \n
URL:https://www.diocesidiroma.it/event/ore-1900-parrocchia-di-santa-monica-a-ostia-partecipa-alla-messa-presieduta-da-papa-francesco/
CATEGORIES:NON USARE --- Agenda del Vicario
END:VEVENT
END:VCALENDAR