BEGIN:VCALENDAR
VERSION:2.0
PRODID:-//DIOCESI DI ROMA - ECPv4.6.14.1//NONSGML v1.0//EN
CALSCALE:GREGORIAN
METHOD:PUBLISH
X-WR-CALNAME:DIOCESI DI ROMA
X-ORIGINAL-URL:https://www.diocesidiroma.it
X-WR-CALDESC:Eventi per DIOCESI DI ROMA
BEGIN:VEVENT
DTSTART;TZID=Europe/Rome:20180621T193000
DTEND;TZID=Europe/Rome:20180621T193000
DTSTAMP:20260421T010502
CREATED:20180615T072957Z
LAST-MODIFIED:20180615T073111Z
UID:3636-1529609400-1529609400@www.diocesidiroma.it
SUMMARY:Ore 19\,30 Parrocchia S. Benedetto Labre...
DESCRIPTION:Ore 19\,30 incontra la Comunità della Parrocchia S. Benedetto Labre. \n  \n
URL:https://www.diocesidiroma.it/event/ore-1930-parrocchia-s-benedetto-labre/
CATEGORIES:NON USARE --- Agenda del Vicario
END:VEVENT
END:VCALENDAR