BEGIN:VCALENDAR
VERSION:2.0
PRODID:-//DIOCESI DI ROMA - ECPv4.6.14.1//NONSGML v1.0//EN
CALSCALE:GREGORIAN
METHOD:PUBLISH
X-WR-CALNAME:DIOCESI DI ROMA
X-ORIGINAL-URL:https://www.diocesidiroma.it
X-WR-CALDESC:Eventi per DIOCESI DI ROMA
BEGIN:VEVENT
DTSTART;TZID=Europe/Rome:20180623T093000
DTEND;TZID=Europe/Rome:20180623T093000
DTSTAMP:20260421T075301
CREATED:20180615T073559Z
LAST-MODIFIED:20180621T090929Z
UID:3640-1529746200-1529746200@www.diocesidiroma.it
SUMMARY:Ore 9\,30 Messa al Seminario Romano Maggiore...
DESCRIPTION:Ore 9\,30 al Pontificio Seminario Romano Maggiore la S. Messa in occasione dei Giubilei sacerdotali. \n  \n
URL:https://www.diocesidiroma.it/event/ore-930-messa-al-seminario-romano-maggiore/
CATEGORIES:NON USARE --- Agenda del Vicario
END:VEVENT
END:VCALENDAR