BEGIN:VCALENDAR
VERSION:2.0
PRODID:-//DIOCESI DI ROMA - ECPv4.6.14.1//NONSGML v1.0//EN
CALSCALE:GREGORIAN
METHOD:PUBLISH
X-WR-CALNAME:DIOCESI DI ROMA
X-ORIGINAL-URL:https://www.diocesidiroma.it
X-WR-CALDESC:Eventi per DIOCESI DI ROMA
BEGIN:VEVENT
DTSTART;TZID=Europe/Rome:20180611T093000
DTEND;TZID=Europe/Rome:20180611T170000
DTSTAMP:20260423T174212
CREATED:20180608T111156Z
LAST-MODIFIED:20180608T112015Z
UID:3436-1528709400-1528736400@www.diocesidiroma.it
SUMMARY:Ore 9\,30 a Villa Campitelli presiede i lavori della Conferenza Episcopale Laziale.
DESCRIPTION:Alle ore 9\,30 a Villa Campitelli a Frascati presiede i lavori della Conferenza Episcopale Laziale. \n  \n
URL:https://www.diocesidiroma.it/event/ore-930-presiede-i-lavori-della-conferenza-episcopale-laziale/
CATEGORIES:NON USARE --- Agenda del Vicario
END:VEVENT
END:VCALENDAR