BEGIN:VCALENDAR
VERSION:2.0
PRODID:-//DIOCESI DI ROMA - ECPv4.6.14.1//NONSGML v1.0//EN
CALSCALE:GREGORIAN
METHOD:PUBLISH
X-WR-CALNAME:DIOCESI DI ROMA
X-ORIGINAL-URL:https://www.diocesidiroma.it
X-WR-CALDESC:Eventi per DIOCESI DI ROMA
BEGIN:VEVENT
DTSTART;TZID=Europe/Rome:20260418T153000
DTEND;TZID=Europe/Rome:20260418T193000
DTSTAMP:20260421T084004
CREATED:20260415T073807Z
LAST-MODIFIED:20260415T073807Z
UID:40904-1776526200-1776540600@www.diocesidiroma.it
SUMMARY:Ores Day – Festa degli Oratori Estivi - presso la parrocchia Santa Marcella
DESCRIPTION:Ores Day – Festa degli Oratori Estivi – presso la parrocchia Santa Marcella  \n
URL:https://www.diocesidiroma.it/event/ores-day-festa-degli-oratori-estivi-presso-la-parrocchia-santa-marcella/
CATEGORIES:Iniziative degli Uffici
END:VEVENT
END:VCALENDAR