BEGIN:VCALENDAR
VERSION:2.0
PRODID:-//DIOCESI DI ROMA - ECPv4.6.14.1//NONSGML v1.0//EN
CALSCALE:GREGORIAN
METHOD:PUBLISH
X-WR-CALNAME:DIOCESI DI ROMA
X-ORIGINAL-URL:https://www.diocesidiroma.it
X-WR-CALDESC:Eventi per DIOCESI DI ROMA
BEGIN:VEVENT
DTSTART;TZID=Europe/Rome:20250404T183000
DTEND;TZID=Europe/Rome:20250404T183000
DTSTAMP:20260424T200220
CREATED:20250327T110705Z
LAST-MODIFIED:20250327T110715Z
UID:34847-1743791400-1743791400@www.diocesidiroma.it
SUMMARY:Parrocchia San Giuseppe Moscati: Santa Messa e incontro con consiglio pastorale parrocchiale
DESCRIPTION:Parrocchia San Giuseppe Moscati: Santa Messa e incontro con consiglio pastorale parrocchiale \n
URL:https://www.diocesidiroma.it/event/parrocchia-san-giuseppe-moscati-santa-messa-e-incontro-con-consiglio-pastorale-parrocchiale/
CATEGORIES:Vicario Generale
END:VEVENT
END:VCALENDAR