BEGIN:VCALENDAR
VERSION:2.0
PRODID:-//DIOCESI DI ROMA - ECPv4.6.14.1//NONSGML v1.0//EN
CALSCALE:GREGORIAN
METHOD:PUBLISH
X-WR-CALNAME:DIOCESI DI ROMA
X-ORIGINAL-URL:https://www.diocesidiroma.it
X-WR-CALDESC:Eventi per DIOCESI DI ROMA
BEGIN:VEVENT
DTSTART;TZID=Europe/Rome:20250331T203000
DTEND;TZID=Europe/Rome:20250331T203000
DTSTAMP:20260424T200219
CREATED:20250327T105741Z
LAST-MODIFIED:20250327T105754Z
UID:34825-1743453000-1743453000@www.diocesidiroma.it
SUMMARY:Parrocchia San Luigi Grignion de Montfort: incontro “Ero forestiero e mi avete ospitato”
DESCRIPTION:Parrocchia San Luigi Grignion de Montfort: incontro “Ero forestiero e mi avete ospitato” \n
URL:https://www.diocesidiroma.it/event/parrocchia-san-luigi-grignion-de-montfort-incontro-ero-forestiero-e-mi-avete-ospitato/
CATEGORIES:Vicario Generale
END:VEVENT
END:VCALENDAR