BEGIN:VCALENDAR
VERSION:2.0
PRODID:-//DIOCESI DI ROMA - ECPv4.6.14.1//NONSGML v1.0//EN
CALSCALE:GREGORIAN
METHOD:PUBLISH
X-WR-CALNAME:DIOCESI DI ROMA
X-ORIGINAL-URL:https://www.diocesidiroma.it
X-WR-CALDESC:Eventi per DIOCESI DI ROMA
BEGIN:VEVENT
DTSTART;TZID=Europe/Rome:20241212T203000
DTEND;TZID=Europe/Rome:20241212T203000
DTSTAMP:20260424T111836
CREATED:20241206T111219Z
LAST-MODIFIED:20241206T111219Z
UID:32407-1734035400-1734035400@www.diocesidiroma.it
SUMMARY:Partecipa ad una cena di beneficenza presso la parrocchia di San Giustino
DESCRIPTION:Partecipa ad una cena di beneficenza presso la parrocchia di San Giustino \n
URL:https://www.diocesidiroma.it/event/partecipa-ad-una-cena-di-beneficenza-presso-la-parrocchia-di-san-giustino/
CATEGORIES:Vicario Generale
END:VEVENT
END:VCALENDAR