BEGIN:VCALENDAR
VERSION:2.0
PRODID:-//DIOCESI DI ROMA - ECPv4.6.14.1//NONSGML v1.0//EN
CALSCALE:GREGORIAN
METHOD:PUBLISH
X-WR-CALNAME:DIOCESI DI ROMA
X-ORIGINAL-URL:https://www.diocesidiroma.it
X-WR-CALDESC:Eventi per DIOCESI DI ROMA
BEGIN:VEVENT
DTSTART;TZID=Europe/Rome:20190310T000000
DTEND;TZID=Europe/Rome:20190310T000000
DTSTAMP:20260424T020437
CREATED:20190301T073656Z
LAST-MODIFIED:20190301T073656Z
UID:6871-1552176000-1552176000@www.diocesidiroma.it
SUMMARY:Partecipa agli esercizi spirituali per la Curia Romana del Santo Padre Francesco
DESCRIPTION:Partecipa agli esercizi spirituali per la Curia Romana del Santo Padre Francesco \n
URL:https://www.diocesidiroma.it/event/partecipa-agli-esercizi-spirituali-per-la-curia-romana-del-santo-padre-francesco/
CATEGORIES:NON USARE --- Agenda del Vicario
END:VEVENT
END:VCALENDAR