BEGIN:VCALENDAR
VERSION:2.0
PRODID:-//DIOCESI DI ROMA - ECPv4.6.14.1//NONSGML v1.0//EN
CALSCALE:GREGORIAN
METHOD:PUBLISH
X-WR-CALNAME:DIOCESI DI ROMA
X-ORIGINAL-URL:https://www.diocesidiroma.it
X-WR-CALDESC:Eventi per DIOCESI DI ROMA
BEGIN:VEVENT
DTSTART;VALUE=DATE:20241106
DTEND;VALUE=DATE:20241109
DTSTAMP:20260425T102449
CREATED:20241031T083107Z
LAST-MODIFIED:20241031T083107Z
UID:31638-1730851200-1731110399@www.diocesidiroma.it
SUMMARY:Partecipa agli esercizi spirituali
DESCRIPTION:Partecipa agli esercizi spirituali \n
URL:https://www.diocesidiroma.it/event/partecipa-agli-esercizi-spirituali/
CATEGORIES:Vicario Generale
END:VEVENT
END:VCALENDAR