BEGIN:VCALENDAR
VERSION:2.0
PRODID:-//DIOCESI DI ROMA - ECPv4.6.14.1//NONSGML v1.0//EN
CALSCALE:GREGORIAN
METHOD:PUBLISH
X-WR-CALNAME:DIOCESI DI ROMA
X-ORIGINAL-URL:https://www.diocesidiroma.it
X-WR-CALDESC:Eventi per DIOCESI DI ROMA
BEGIN:VEVENT
DTSTART;TZID=Europe/Rome:20241222T170000
DTEND;TZID=Europe/Rome:20241222T170000
DTSTAMP:20260422T101444
CREATED:20241216T080508Z
LAST-MODIFIED:20241216T080508Z
UID:32602-1734886800-1734886800@www.diocesidiroma.it
SUMMARY:Partecipa al concerto presso il carcere minorile di Casal del Marmo
DESCRIPTION:Partecipa al concerto presso il carcere minorile di Casal del Marmo \n
URL:https://www.diocesidiroma.it/event/partecipa-al-concerto-presso-il-carcere-minorile-di-casal-del-marmo/
CATEGORIES:Vicario Generale
END:VEVENT
END:VCALENDAR