BEGIN:VCALENDAR
VERSION:2.0
PRODID:-//DIOCESI DI ROMA - ECPv4.6.14.1//NONSGML v1.0//EN
CALSCALE:GREGORIAN
METHOD:PUBLISH
X-WR-CALNAME:DIOCESI DI ROMA
X-ORIGINAL-URL:https://www.diocesidiroma.it
X-WR-CALDESC:Eventi per DIOCESI DI ROMA
BEGIN:VEVENT
DTSTART;TZID=Europe/Rome:20180924T150000
DTEND;TZID=Europe/Rome:20180926T170000
DTSTAMP:20260423T093802
CREATED:20180921T125709Z
LAST-MODIFIED:20180921T125709Z
UID:4724-1537801200-1537981200@www.diocesidiroma.it
SUMMARY:Partecipa al Consiglio Episcopale Permanente della Cei
DESCRIPTION:Nel pomeriggio\, il Cardinale Angelo De Donatis parteciperà al Consiglio Episcopale Permanente della Conferenza Episcopale Italiana. \n
URL:https://www.diocesidiroma.it/event/partecipa-al-consiglio-episcopale-permanente-della-cei/
CATEGORIES:NON USARE --- Agenda del Vicario
END:VEVENT
END:VCALENDAR