BEGIN:VCALENDAR
VERSION:2.0
PRODID:-//DIOCESI DI ROMA - ECPv4.6.14.1//NONSGML v1.0//EN
CALSCALE:GREGORIAN
METHOD:PUBLISH
X-WR-CALNAME:DIOCESI DI ROMA
X-ORIGINAL-URL:https://www.diocesidiroma.it
X-WR-CALDESC:Eventi per DIOCESI DI ROMA
BEGIN:VEVENT
DTSTART;TZID=Europe/Rome:20240122T000000
DTEND;TZID=Europe/Rome:20240124T000000
DTSTAMP:20260422T173531
CREATED:20240119T123300Z
LAST-MODIFIED:20240119T123300Z
UID:28557-1705881600-1706054400@www.diocesidiroma.it
SUMMARY:Partecipa al Consiglio Episcopale Permanente della Conferenza Episcopale Italiana
DESCRIPTION:Partecipa al Consiglio Episcopale Permanente della Conferenza Episcopale Italiana \n
URL:https://www.diocesidiroma.it/event/partecipa-al-consiglio-episcopale-permanente-della-conferenza-episcopale-italiana-9/
CATEGORIES:NON USARE --- Agenda del Vicario
END:VEVENT
END:VCALENDAR