BEGIN:VCALENDAR
VERSION:2.0
PRODID:-//DIOCESI DI ROMA - ECPv4.6.14.1//NONSGML v1.0//EN
CALSCALE:GREGORIAN
METHOD:PUBLISH
X-WR-CALNAME:DIOCESI DI ROMA
X-ORIGINAL-URL:https://www.diocesidiroma.it
X-WR-CALDESC:Eventi per DIOCESI DI ROMA
BEGIN:VEVENT
DTSTART;TZID=Europe/Rome:20250515T200000
DTEND;TZID=Europe/Rome:20250515T200000
DTSTAMP:20260424T200221
CREATED:20250509T072618Z
LAST-MODIFIED:20250509T072646Z
UID:35529-1747339200-1747339200@www.diocesidiroma.it
SUMMARY:Partecipa al consiglio pastorale della parrocchia San Giuseppe Cottolengo
DESCRIPTION:Partecipa al consiglio pastorale della parrocchia San Giuseppe Cottolengo \n
URL:https://www.diocesidiroma.it/event/partecipa-al-consiglio-pastorale-della-parrocchia-san-giuseppe-cottolengo/
CATEGORIES:Vicario Generale
END:VEVENT
END:VCALENDAR