BEGIN:VCALENDAR
VERSION:2.0
PRODID:-//DIOCESI DI ROMA - ECPv4.6.14.1//NONSGML v1.0//EN
CALSCALE:GREGORIAN
METHOD:PUBLISH
X-WR-CALNAME:DIOCESI DI ROMA
X-ORIGINAL-URL:https://www.diocesidiroma.it
X-WR-CALDESC:Eventi per DIOCESI DI ROMA
BEGIN:VEVENT
DTSTART;VALUE=DATE:20250922
DTEND;VALUE=DATE:20250925
DTSTAMP:20260422T112742
CREATED:20250919T071237Z
LAST-MODIFIED:20250919T071237Z
UID:37263-1758499200-1758758399@www.diocesidiroma.it
SUMMARY:Partecipa al Consiglio Permanente della Cei (Gorizia)
DESCRIPTION:Partecipa al Consiglio Permanente della Cei (Gorizia) \n
URL:https://www.diocesidiroma.it/event/partecipa-al-consiglio-permanente-della-cei-gorizia/
CATEGORIES:Vicario Generale
END:VEVENT
END:VCALENDAR