BEGIN:VCALENDAR
VERSION:2.0
PRODID:-//DIOCESI DI ROMA - ECPv4.6.14.1//NONSGML v1.0//EN
CALSCALE:GREGORIAN
METHOD:PUBLISH
X-WR-CALNAME:DIOCESI DI ROMA
X-ORIGINAL-URL:https://www.diocesidiroma.it
X-WR-CALDESC:Eventi per DIOCESI DI ROMA
BEGIN:VEVENT
DTSTART;TZID=Europe/Rome:20260416T163000
DTEND;TZID=Europe/Rome:20260416T193000
DTSTAMP:20260423T215523
CREATED:20260330T070012Z
LAST-MODIFIED:20260410T064048Z
UID:40779-1776357000-1776367800@www.diocesidiroma.it
SUMMARY:Partecipa al Convegno Nazionale Servizio Tutela Minori sul tema: “Rispetto: generare relazioni autentiche” presso la Domus Mariae
DESCRIPTION:Partecipa al Convegno Nazionale Servizio Tutela Minori sul tema: “Rispetto: generare relazioni autentiche” presso la Domus Mariae \n
URL:https://www.diocesidiroma.it/event/partecipa-al-convegno-nazionale-servizio-tutela-minori-sul-tema-rispetto-generare-relazioni-autentiche/
CATEGORIES:Vicario Generale
END:VEVENT
END:VCALENDAR