BEGIN:VCALENDAR
VERSION:2.0
PRODID:-//DIOCESI DI ROMA - ECPv4.6.14.1//NONSGML v1.0//EN
CALSCALE:GREGORIAN
METHOD:PUBLISH
X-WR-CALNAME:DIOCESI DI ROMA
X-ORIGINAL-URL:https://www.diocesidiroma.it
X-WR-CALDESC:Eventi per DIOCESI DI ROMA
BEGIN:VEVENT
DTSTART;TZID=Europe/Rome:20250616T180000
DTEND;TZID=Europe/Rome:20250616T180000
DTSTAMP:20260424T135431
CREATED:20250616T072005Z
LAST-MODIFIED:20250616T072005Z
UID:36083-1750096800-1750096800@www.diocesidiroma.it
SUMMARY:Partecipa al Convegno sul Debito pubblico (Ministero delle finanze)
DESCRIPTION:Partecipa al Convegno sul Debito pubblico (Ministero delle finanze) \n
URL:https://www.diocesidiroma.it/event/partecipa-al-convegno-sul-debito-pubblico-ministero-delle-finanze/
CATEGORIES:Vicario Generale
END:VEVENT
END:VCALENDAR