BEGIN:VCALENDAR
VERSION:2.0
PRODID:-//DIOCESI DI ROMA - ECPv4.6.14.1//NONSGML v1.0//EN
CALSCALE:GREGORIAN
METHOD:PUBLISH
X-WR-CALNAME:DIOCESI DI ROMA
X-ORIGINAL-URL:https://www.diocesidiroma.it
X-WR-CALDESC:Eventi per DIOCESI DI ROMA
BEGIN:VEVENT
DTSTART;TZID=Europe/Rome:20260415T160000
DTEND;TZID=Europe/Rome:20260415T160000
DTSTAMP:20260421T085129
CREATED:20260410T063753Z
LAST-MODIFIED:20260410T063753Z
UID:40851-1776268800-1776268800@www.diocesidiroma.it
SUMMARY:Partecipa al Convegno sulla pastorale carceraria (Sala degli Imperatori)
DESCRIPTION:Partecipa al Convegno sulla pastorale carceraria (Sala degli Imperatori) \n
URL:https://www.diocesidiroma.it/event/partecipa-al-convegno-sulla-pastorale-carceraria-sala-degli-imperatori/
CATEGORIES:Vicario Generale
END:VEVENT
END:VCALENDAR