BEGIN:VCALENDAR
VERSION:2.0
PRODID:-//DIOCESI DI ROMA - ECPv4.6.14.1//NONSGML v1.0//EN
CALSCALE:GREGORIAN
METHOD:PUBLISH
X-WR-CALNAME:DIOCESI DI ROMA
X-ORIGINAL-URL:https://www.diocesidiroma.it
X-WR-CALDESC:Eventi per DIOCESI DI ROMA
BEGIN:VEVENT
DTSTART;TZID=Europe/Rome:20250202T150000
DTEND;TZID=Europe/Rome:20250202T150000
DTSTAMP:20260423T034719
CREATED:20250124T111848Z
LAST-MODIFIED:20250124T111858Z
UID:33497-1738508400-1738508400@www.diocesidiroma.it
SUMMARY:Partecipa al giubileo diocesano della vita consacrata
DESCRIPTION:Partecipa al giubileo diocesano della vita consacrata  \n
URL:https://www.diocesidiroma.it/event/partecipa-al-giubileo-diocesano-della-vita-consacrata/
CATEGORIES:Vicario Generale
END:VEVENT
END:VCALENDAR