BEGIN:VCALENDAR
VERSION:2.0
PRODID:-//DIOCESI DI ROMA - ECPv4.6.14.1//NONSGML v1.0//EN
CALSCALE:GREGORIAN
METHOD:PUBLISH
X-WR-CALNAME:DIOCESI DI ROMA
X-ORIGINAL-URL:https://www.diocesidiroma.it
X-WR-CALDESC:Eventi per DIOCESI DI ROMA
BEGIN:VEVENT
DTSTART;TZID=Europe/Rome:20221216T090000
DTEND;TZID=Europe/Rome:20221216T090000
DTSTAMP:20260421T025042
CREATED:20221209T101045Z
LAST-MODIFIED:20221209T101045Z
UID:24420-1671181200-1671181200@www.diocesidiroma.it
SUMMARY:Partecipa al Ritiro di Avvento del Consiglio Episcopale della Diocesi
DESCRIPTION:Partecipa al Ritiro di Avvento del Consiglio Episcopale della Diocesi. \n
URL:https://www.diocesidiroma.it/event/partecipa-al-ritiro-di-avvento-del-consiglio-episcopale-della-diocesi/
CATEGORIES:NON USARE --- Agenda del Vicario
END:VEVENT
END:VCALENDAR