BEGIN:VCALENDAR
VERSION:2.0
PRODID:-//DIOCESI DI ROMA - ECPv4.6.14.1//NONSGML v1.0//EN
CALSCALE:GREGORIAN
METHOD:PUBLISH
X-WR-CALNAME:DIOCESI DI ROMA
X-ORIGINAL-URL:https://www.diocesidiroma.it
X-WR-CALDESC:Eventi per DIOCESI DI ROMA
BEGIN:VEVENT
DTSTART;TZID=Europe/Rome:20210521T090000
DTEND;TZID=Europe/Rome:20210521T090000
DTSTAMP:20260421T082250
CREATED:20210514T094544Z
LAST-MODIFIED:20210514T094544Z
UID:15587-1621587600-1621587600@www.diocesidiroma.it
SUMMARY:Partecipa al ritiro spirituale del Consiglio episcopale
DESCRIPTION:Partecipa al ritiro spirituale del Consiglio episcopale. \n
URL:https://www.diocesidiroma.it/event/partecipa-al-ritiro-spirituale-del-consiglio-episcopale/
CATEGORIES:NON USARE --- Agenda del Vicario
END:VEVENT
END:VCALENDAR