BEGIN:VCALENDAR
VERSION:2.0
PRODID:-//DIOCESI DI ROMA - ECPv4.6.14.1//NONSGML v1.0//EN
CALSCALE:GREGORIAN
METHOD:PUBLISH
X-WR-CALNAME:DIOCESI DI ROMA
X-ORIGINAL-URL:https://www.diocesidiroma.it
X-WR-CALDESC:Eventi per DIOCESI DI ROMA
BEGIN:VEVENT
DTSTART;TZID=Europe/Rome:20231113T000000
DTEND;TZID=Europe/Rome:20231116T000000
DTSTAMP:20260421T060858
CREATED:20231110T120036Z
LAST-MODIFIED:20231110T120036Z
UID:27864-1699833600-1700092800@www.diocesidiroma.it
SUMMARY:Partecipa alla 78° Assemblea Generale della Conferenza Episcopale Italiana ad Assisi
DESCRIPTION:Partecipa alla 78° Assemblea Generale della Conferenza Episcopale Italiana ad Assisi \n
URL:https://www.diocesidiroma.it/event/partecipa-alla-78-assemblea-generale-della-conferenza-episcopale-italiana-ad-assisi/
CATEGORIES:NON USARE --- Agenda del Vicario
END:VEVENT
END:VCALENDAR