BEGIN:VCALENDAR
VERSION:2.0
PRODID:-//DIOCESI DI ROMA - ECPv4.6.14.1//NONSGML v1.0//EN
CALSCALE:GREGORIAN
METHOD:PUBLISH
X-WR-CALNAME:DIOCESI DI ROMA
X-ORIGINAL-URL:https://www.diocesidiroma.it
X-WR-CALDESC:Eventi per DIOCESI DI ROMA
BEGIN:VEVENT
DTSTART;TZID=Europe/Rome:20251029T103000
DTEND;TZID=Europe/Rome:20251029T103000
DTSTAMP:20260422T115602
CREATED:20251024T102439Z
LAST-MODIFIED:20251024T102439Z
UID:38178-1761733800-1761733800@www.diocesidiroma.it
SUMMARY:Partecipa alla conferenza stampa per la restituzione di un prezioso bene recuperato dai Carabinieri presso la Basilica S. Maria in Ara Coeli al Campidoglio
DESCRIPTION:Partecipa alla conferenza stampa per la restituzione di un prezioso bene recuperato dai Carabinieri presso la Basilica S. Maria in Ara Coeli al Campidoglio \n
URL:https://www.diocesidiroma.it/event/partecipa-alla-conferenza-stampa-per-la-restituzione-di-un-prezioso-bene-recuperato-dai-carabinieri-presso-la-basilica-s-maria-in-ara-coeli-al-campidoglio/
CATEGORIES:Vicario Generale
END:VEVENT
END:VCALENDAR