BEGIN:VCALENDAR
VERSION:2.0
PRODID:-//DIOCESI DI ROMA - ECPv4.6.14.1//NONSGML v1.0//EN
CALSCALE:GREGORIAN
METHOD:PUBLISH
X-WR-CALNAME:DIOCESI DI ROMA
X-ORIGINAL-URL:https://www.diocesidiroma.it
X-WR-CALDESC:Eventi per DIOCESI DI ROMA
BEGIN:VEVENT
DTSTART;TZID=Europe/Rome:20251014T150000
DTEND;TZID=Europe/Rome:20251014T150000
DTSTAMP:20260421T115606
CREATED:20251010T064217Z
LAST-MODIFIED:20251010T064217Z
UID:37719-1760454000-1760454000@www.diocesidiroma.it
SUMMARY:Partecipa alla lectio magistralis dell’Istituto Ecclesia Mater
DESCRIPTION:Partecipa alla lectio magistralis dell’Istituto Ecclesia Mater \n
URL:https://www.diocesidiroma.it/event/partecipa-alla-lectio-magistralis-dellistituto-ecclesia-mater/
CATEGORIES:Vicario Generale
END:VEVENT
END:VCALENDAR