BEGIN:VCALENDAR
VERSION:2.0
PRODID:-//DIOCESI DI ROMA - ECPv4.6.14.1//NONSGML v1.0//EN
CALSCALE:GREGORIAN
METHOD:PUBLISH
X-WR-CALNAME:DIOCESI DI ROMA
X-ORIGINAL-URL:https://www.diocesidiroma.it
X-WR-CALDESC:Eventi per DIOCESI DI ROMA
BEGIN:VEVENT
DTSTART;TZID=Europe/Rome:20260218T163000
DTEND;TZID=Europe/Rome:20260218T163000
DTSTAMP:20260421T105842
CREATED:20260213T083042Z
LAST-MODIFIED:20260213T083042Z
UID:39922-1771432200-1771432200@www.diocesidiroma.it
SUMMARY:Partecipa alla liturgia “stazionale” nella basilica di Santa Sabina all’Aventino presieduta dal Santo Padre Leone XIV
DESCRIPTION:Partecipa alla liturgia “stazionale” nella basilica di Santa Sabina all’Aventino presieduta dal Santo Padre Leone XIV  \n
URL:https://www.diocesidiroma.it/event/partecipa-alla-liturgia-stazionale-nella-basilica-di-santa-sabina-allaventino-presieduta-dal-santo-padre-leone-xiv/
CATEGORIES:Vicario Generale
END:VEVENT
END:VCALENDAR