BEGIN:VCALENDAR
VERSION:2.0
PRODID:-//DIOCESI DI ROMA - ECPv4.6.14.1//NONSGML v1.0//EN
CALSCALE:GREGORIAN
METHOD:PUBLISH
X-WR-CALNAME:DIOCESI DI ROMA
X-ORIGINAL-URL:https://www.diocesidiroma.it
X-WR-CALDESC:Eventi per DIOCESI DI ROMA
BEGIN:VEVENT
DTSTART;TZID=Europe/Rome:20251030T113000
DTEND;TZID=Europe/Rome:20251030T113000
DTSTAMP:20260422T013941
CREATED:20251024T102938Z
LAST-MODIFIED:20251024T103002Z
UID:38192-1761823800-1761823800@www.diocesidiroma.it
SUMMARY:Partecipa alla presentazione del “Rapporto attività della Fondazione Salus Populi Romani”
DESCRIPTION:Partecipa alla presentazione del “Rapporto attività della Fondazione Salus Populi Romani” \n
URL:https://www.diocesidiroma.it/event/partecipa-alla-presentazione-del-rapporto-attivita-della-fondazione-salus-populi-romani/
CATEGORIES:Vicario Generale
END:VEVENT
END:VCALENDAR