BEGIN:VCALENDAR
VERSION:2.0
PRODID:-//DIOCESI DI ROMA - ECPv4.6.14.1//NONSGML v1.0//EN
CALSCALE:GREGORIAN
METHOD:PUBLISH
X-WR-CALNAME:DIOCESI DI ROMA
X-ORIGINAL-URL:https://www.diocesidiroma.it
X-WR-CALDESC:Eventi per DIOCESI DI ROMA
BEGIN:VEVENT
DTSTART;TZID=Europe/Rome:20260210T110000
DTEND;TZID=Europe/Rome:20260210T110000
DTSTAMP:20260422T001538
CREATED:20260209T072922Z
LAST-MODIFIED:20260209T072922Z
UID:39810-1770721200-1770721200@www.diocesidiroma.it
SUMMARY:Partecipa alla presentazione della Relazione sull’attività della Giustizia amministrativa per l’anno passato presso il Consiglio di Stato
DESCRIPTION:Partecipa alla presentazione della Relazione sull’attività della Giustizia amministrativa per l’anno passato presso il Consiglio di Stato \n
URL:https://www.diocesidiroma.it/event/partecipa-alla-presentazione-della-relazione-sullattivita-della-giustizia-amministrativa-per-lanno-passato-presso-il-consiglio-di-stato/
CATEGORIES:Vicario Generale
END:VEVENT
END:VCALENDAR