BEGIN:VCALENDAR
VERSION:2.0
PRODID:-//DIOCESI DI ROMA - ECPv4.6.14.1//NONSGML v1.0//EN
CALSCALE:GREGORIAN
METHOD:PUBLISH
X-WR-CALNAME:DIOCESI DI ROMA
X-ORIGINAL-URL:https://www.diocesidiroma.it
X-WR-CALDESC:Eventi per DIOCESI DI ROMA
BEGIN:VEVENT
DTSTART;TZID=Europe/Rome:20210709T090000
DTEND;TZID=Europe/Rome:20210709T090000
DTSTAMP:20260422T193057
CREATED:20210702T081205Z
LAST-MODIFIED:20210702T081205Z
UID:16798-1625821200-1625821200@www.diocesidiroma.it
SUMMARY:Partecipa alla riunione straordinaria del Consiglio Episcopale Permanente in videoconferenza
DESCRIPTION:Partecipa alla riunione straordinaria del Consiglio Episcopale Permanente in videoconferenza. \n
URL:https://www.diocesidiroma.it/event/partecipa-alla-riunione-straordinaria-del-consiglio-episcopale-permanente-in-videoconferenza/
CATEGORIES:NON USARE --- Agenda del Vicario
END:VEVENT
END:VCALENDAR