BEGIN:VCALENDAR
VERSION:2.0
PRODID:-//DIOCESI DI ROMA - ECPv4.6.14.1//NONSGML v1.0//EN
CALSCALE:GREGORIAN
METHOD:PUBLISH
X-WR-CALNAME:DIOCESI DI ROMA
X-ORIGINAL-URL:https://www.diocesidiroma.it
X-WR-CALDESC:Eventi per DIOCESI DI ROMA
BEGIN:VEVENT
DTSTART;TZID=Europe/Rome:20200226T163000
DTEND;TZID=Europe/Rome:20200226T163000
DTSTAMP:20260423T230042
CREATED:20200221T091236Z
LAST-MODIFIED:20200221T091236Z
UID:10186-1582734600-1582734600@www.diocesidiroma.it
SUMMARY:Partecipa alla stazione quaresimale presieduta dal Santo Padre a Santa Sabina
DESCRIPTION:Partecipa alla stazione quaresimale presieduta dal Santo Padre a Santa Sabina. \n
URL:https://www.diocesidiroma.it/event/partecipa-alla-stazione-quaresimale-presieduta-dal-santo-padre-a-santa-sabina/
CATEGORIES:NON USARE --- Agenda del Vicario
END:VEVENT
END:VCALENDAR