BEGIN:VCALENDAR
VERSION:2.0
PRODID:-//DIOCESI DI ROMA - ECPv4.6.14.1//NONSGML v1.0//EN
CALSCALE:GREGORIAN
METHOD:PUBLISH
X-WR-CALNAME:DIOCESI DI ROMA
X-ORIGINAL-URL:https://www.diocesidiroma.it
X-WR-CALDESC:Eventi per DIOCESI DI ROMA
BEGIN:VEVENT
DTSTART;TZID=Europe/Rome:20241123T230000
DTEND;TZID=Europe/Rome:20241123T230000
DTSTAMP:20260422T085250
CREATED:20241115T171246Z
LAST-MODIFIED:20241115T171246Z
UID:31978-1732402800-1732402800@www.diocesidiroma.it
SUMMARY:Partecipa alla tappa diocesana della Giornata Mondiale della Gioventù al Divino Amore
DESCRIPTION:Partecipa alla tappa diocesana della Giornata Mondiale della Gioventù al Divino Amore \n
URL:https://www.diocesidiroma.it/event/partecipa-alla-tappa-diocesana-della-giornata-mondiale-della-gioventu-al-divino-amore/
CATEGORIES:Vicario Generale
END:VEVENT
END:VCALENDAR