BEGIN:VCALENDAR
VERSION:2.0
PRODID:-//DIOCESI DI ROMA - ECPv4.6.14.1//NONSGML v1.0//EN
CALSCALE:GREGORIAN
METHOD:PUBLISH
X-WR-CALNAME:DIOCESI DI ROMA
X-ORIGINAL-URL:https://www.diocesidiroma.it
X-WR-CALDESC:Eventi per DIOCESI DI ROMA
BEGIN:VEVENT
DTSTART;TZID=Europe/Rome:20260130T093000
DTEND;TZID=Europe/Rome:20260130T093000
DTSTAMP:20260422T001649
CREATED:20260123T100752Z
LAST-MODIFIED:20260123T100752Z
UID:39613-1769765400-1769765400@www.diocesidiroma.it
SUMMARY:Partecipa all’assemblea generale della Corte Suprema di Cassazione per la cerimonia di inaugurazione dell’anno giudiziario e per la relazione sull’amministrazione della giustizia
DESCRIPTION:Partecipa all’assemblea generale della Corte Suprema di Cassazione per la cerimonia di inaugurazione dell’anno giudiziario e per la relazione sull’amministrazione della giustizia \n
URL:https://www.diocesidiroma.it/event/partecipa-allassemblea-generale-della-corte-suprema-di-cassazione-per-la-cerimonia-di-inaugurazione-dellanno-giudiziario-e-per-la-relazione-sullamministrazione-della-giustiz/
CATEGORIES:Vicario Generale
END:VEVENT
END:VCALENDAR