BEGIN:VCALENDAR
VERSION:2.0
PRODID:-//DIOCESI DI ROMA - ECPv4.6.14.1//NONSGML v1.0//EN
CALSCALE:GREGORIAN
METHOD:PUBLISH
X-WR-CALNAME:DIOCESI DI ROMA
X-ORIGINAL-URL:https://www.diocesidiroma.it
X-WR-CALDESC:Eventi per DIOCESI DI ROMA
BEGIN:VEVENT
DTSTART;TZID=Europe/Rome:20260418T160000
DTEND;TZID=Europe/Rome:20260418T160000
DTSTAMP:20260421T034746
CREATED:20260410T064812Z
LAST-MODIFIED:20260410T064812Z
UID:40867-1776528000-1776528000@www.diocesidiroma.it
SUMMARY:Partecipa all’evento “Villaggio per la terra”
DESCRIPTION:Partecipa all’evento “Villaggio per la terra” \n
URL:https://www.diocesidiroma.it/event/partecipa-allevento-villaggio-per-la-terra/
CATEGORIES:Vicario Generale
END:VEVENT
END:VCALENDAR