BEGIN:VCALENDAR
VERSION:2.0
PRODID:-//DIOCESI DI ROMA - ECPv4.6.14.1//NONSGML v1.0//EN
CALSCALE:GREGORIAN
METHOD:PUBLISH
X-WR-CALNAME:DIOCESI DI ROMA
X-ORIGINAL-URL:https://www.diocesidiroma.it
X-WR-CALDESC:Eventi per DIOCESI DI ROMA
BEGIN:VEVENT
DTSTART;TZID=Europe/Rome:20190204T110000
DTEND;TZID=Europe/Rome:20190204T110000
DTSTAMP:20260425T024147
CREATED:20190201T082019Z
LAST-MODIFIED:20190201T082019Z
UID:6261-1549278000-1549278000@www.diocesidiroma.it
SUMMARY:Partecipa all’inaugurazione del Centro Matteo Ricci per l'accoglienza e l'integrazione dei richiedenti asilo e rifugiati a Roma organizzata dal Centro Astalli
DESCRIPTION:Partecipa all’inaugurazione del Centro Matteo Ricci per l’accoglienza e l’integrazione dei richiedenti asilo e rifugiati a Roma organizzata dal Centro Astalli. \n
URL:https://www.diocesidiroma.it/event/partecipa-allinaugurazione-del-centro-matteo-ricci-per-laccoglienza-e-lintegrazione-dei-richiedenti-asilo-e-rifugiati-a-roma-organizzata-dal-centro-astalli/
CATEGORIES:NON USARE --- Agenda del Vicario
END:VEVENT
END:VCALENDAR