BEGIN:VCALENDAR
VERSION:2.0
PRODID:-//DIOCESI DI ROMA - ECPv4.6.14.1//NONSGML v1.0//EN
CALSCALE:GREGORIAN
METHOD:PUBLISH
X-WR-CALNAME:DIOCESI DI ROMA
X-ORIGINAL-URL:https://www.diocesidiroma.it
X-WR-CALDESC:Eventi per DIOCESI DI ROMA
BEGIN:VEVENT
DTSTART;TZID=Europe/Rome:20260129T103000
DTEND;TZID=Europe/Rome:20260129T103000
DTSTAMP:20260421T234211
CREATED:20260123T100625Z
LAST-MODIFIED:20260123T100625Z
UID:39609-1769682600-1769682600@www.diocesidiroma.it
SUMMARY:Partecipa all’inaugurazione dell’anno accademico dell’Università Cattolica del Sacro Cuore
DESCRIPTION:Partecipa all’inaugurazione dell’anno accademico dell’Università Cattolica del Sacro Cuore \n
URL:https://www.diocesidiroma.it/event/partecipa-allinaugurazione-dellanno-accademico-delluniversita-cattolica-del-sacro-cuore/
CATEGORIES:Vicario Generale
END:VEVENT
END:VCALENDAR