BEGIN:VCALENDAR
VERSION:2.0
PRODID:-//DIOCESI DI ROMA - ECPv4.6.14.1//NONSGML v1.0//EN
CALSCALE:GREGORIAN
METHOD:PUBLISH
X-WR-CALNAME:DIOCESI DI ROMA
X-ORIGINAL-URL:https://www.diocesidiroma.it
X-WR-CALDESC:Eventi per DIOCESI DI ROMA
BEGIN:VEVENT
DTSTART;TZID=Europe/Rome:20260224T110000
DTEND;TZID=Europe/Rome:20260224T110000
DTSTAMP:20260422T044111
CREATED:20260219T081757Z
LAST-MODIFIED:20260219T081757Z
UID:40039-1771930800-1771930800@www.diocesidiroma.it
SUMMARY:Partecipa all’inaugurazione dell’Anno Giudiziario della Corte dei Conti
DESCRIPTION:Partecipa all’inaugurazione dell’Anno Giudiziario della Corte dei Conti \n
URL:https://www.diocesidiroma.it/event/partecipa-allinaugurazione-dellanno-giudiziario-della-corte-dei-conti/
CATEGORIES:Vicario Generale
END:VEVENT
END:VCALENDAR