BEGIN:VCALENDAR
VERSION:2.0
PRODID:-//DIOCESI DI ROMA - ECPv4.6.14.1//NONSGML v1.0//EN
CALSCALE:GREGORIAN
METHOD:PUBLISH
X-WR-CALNAME:DIOCESI DI ROMA
X-ORIGINAL-URL:https://www.diocesidiroma.it
X-WR-CALDESC:Eventi per DIOCESI DI ROMA
BEGIN:VEVENT
DTSTART;TZID=Europe/Rome:20250124T110000
DTEND;TZID=Europe/Rome:20250124T110000
DTSTAMP:20260425T041215
CREATED:20250117T112037Z
LAST-MODIFIED:20250117T112037Z
UID:33363-1737716400-1737716400@www.diocesidiroma.it
SUMMARY:Partecipa all’inaugurazione dell’anno giudiziario e relazione sull’amministrazione della giustizia presso la Corte di Cassazione
DESCRIPTION:Partecipa all’inaugurazione dell’anno giudiziario e relazione sull’amministrazione della giustizia presso la Corte di Cassazione \n
URL:https://www.diocesidiroma.it/event/partecipa-allinaugurazione-dellanno-giudiziario-e-relazione-sullamministrazione-della-giustizia-presso-la-corte-di-cassazione/
CATEGORIES:Vicario Generale
END:VEVENT
END:VCALENDAR