BEGIN:VCALENDAR
VERSION:2.0
PRODID:-//DIOCESI DI ROMA - ECPv4.6.14.1//NONSGML v1.0//EN
CALSCALE:GREGORIAN
METHOD:PUBLISH
X-WR-CALNAME:DIOCESI DI ROMA
X-ORIGINAL-URL:https://www.diocesidiroma.it
X-WR-CALDESC:Eventi per DIOCESI DI ROMA
BEGIN:VEVENT
DTSTART;TZID=Europe/Rome:20260321T093000
DTEND;TZID=Europe/Rome:20260321T093000
DTSTAMP:20260423T200610
CREATED:20260311T151059Z
LAST-MODIFIED:20260311T151059Z
UID:40477-1774085400-1774085400@www.diocesidiroma.it
SUMMARY:Partecipa all’incontro delle famiglie “Ararat” presso la basilica di San Giovanni in Laterano
DESCRIPTION:Partecipa all’incontro delle famiglie “Ararat” presso la basilica di San Giovanni in Laterano \n
URL:https://www.diocesidiroma.it/event/partecipa-allincontro-delle-famiglie-ararat-presso-la-basilica-di-san-giovanni-in-laterano/
CATEGORIES:Vicario Generale
END:VEVENT
END:VCALENDAR