BEGIN:VCALENDAR
VERSION:2.0
PRODID:-//DIOCESI DI ROMA - ECPv4.6.14.1//NONSGML v1.0//EN
CALSCALE:GREGORIAN
METHOD:PUBLISH
X-WR-CALNAME:DIOCESI DI ROMA
X-ORIGINAL-URL:https://www.diocesidiroma.it
X-WR-CALDESC:Eventi per DIOCESI DI ROMA
BEGIN:VEVENT
DTSTART;TZID=Europe/Rome:20251024T110000
DTEND;TZID=Europe/Rome:20251024T110000
DTSTAMP:20260421T212523
CREATED:20251017T100006Z
LAST-MODIFIED:20251017T100006Z
UID:37972-1761303600-1761303600@www.diocesidiroma.it
SUMMARY:Partecipa all’udienza del Santo Padre Leone XIV con l’Istituto Giovanni Paolo II
DESCRIPTION:Partecipa all’udienza del Santo Padre Leone XIV con l’Istituto Giovanni Paolo II  \n
URL:https://www.diocesidiroma.it/event/partecipa-alludienza-del-santo-padre-leone-xiv-con-listituto-giovanni-paolo-ii/
CATEGORIES:Vicario Generale
END:VEVENT
END:VCALENDAR