BEGIN:VCALENDAR
VERSION:2.0
PRODID:-//DIOCESI DI ROMA - ECPv4.6.14.1//NONSGML v1.0//EN
CALSCALE:GREGORIAN
METHOD:PUBLISH
X-WR-CALNAME:DIOCESI DI ROMA
X-ORIGINAL-URL:https://www.diocesidiroma.it
X-WR-CALDESC:Eventi per DIOCESI DI ROMA
BEGIN:VEVENT
DTSTART;TZID=Europe/Rome:20210711T000000
DTEND;TZID=Europe/Rome:20210717T000000
DTSTAMP:20260423T021845
CREATED:20210702T081244Z
LAST-MODIFIED:20210702T081244Z
UID:16800-1625961600-1626480000@www.diocesidiroma.it
SUMMARY:Partecipa in Val di Fassa alla settimana di fraternità organizzata dal Servizio per la Formazione Permanente per i sacerdoti al 10°\, 20°\, 30° anno di ordinazione
DESCRIPTION:Partecipa in Val di Fassa alla settimana di fraternità organizzata dal Servizio per la Formazione Permanente per i sacerdoti al 10°\, 20°\, 30° anno di ordinazione. \n
URL:https://www.diocesidiroma.it/event/partecipa-in-val-di-fassa-alla-settimana-di-fraternita-organizzata-dal-servizio-per-la-formazione-permanente-per-i-sacerdoti-al-10-20-30-anno-di-ordinazione-2/
CATEGORIES:NON USARE --- Agenda del Vicario
END:VEVENT
END:VCALENDAR