BEGIN:VCALENDAR
VERSION:2.0
PRODID:-//DIOCESI DI ROMA - ECPv4.6.14.1//NONSGML v1.0//EN
CALSCALE:GREGORIAN
METHOD:PUBLISH
X-WR-CALNAME:DIOCESI DI ROMA
X-ORIGINAL-URL:https://www.diocesidiroma.it
X-WR-CALDESC:Eventi per DIOCESI DI ROMA
BEGIN:VEVENT
DTSTART;TZID=Europe/Rome:20231106T000000
DTEND;TZID=Europe/Rome:20231110T000000
DTSTAMP:20260421T082524
CREATED:20231103T095958Z
LAST-MODIFIED:20231103T095958Z
UID:27779-1699228800-1699574400@www.diocesidiroma.it
SUMMARY:Partecipa presso il Centro Interazionale di Spiritualità Sacro Cuore di Gesù a Rocca di Papa agli Esercizi Spirituali per il Consiglio Episcopale\, i Parroci Prefetti e i Direttori del Vicariato
DESCRIPTION:Partecipa presso il Centro Interazionale di Spiritualità Sacro Cuore di Gesù a Rocca di Papa agli Esercizi Spirituali per il Consiglio Episcopale\, i Parroci Prefetti e i Direttori del Vicariato. \n
URL:https://www.diocesidiroma.it/event/partecipa-presso-il-centro-interazionale-di-spiritualita-sacro-cuore-di-gesu-a-rocca-di-papa-agli-esercizi-spirituali-per-il-consiglio-episcopale-i-parroci-prefetti-e-i-direttori-del-vicariato/
CATEGORIES:NON USARE --- Agenda del Vicario
END:VEVENT
END:VCALENDAR