BEGIN:VCALENDAR
VERSION:2.0
PRODID:-//DIOCESI DI ROMA - ECPv4.6.14.1//NONSGML v1.0//EN
CALSCALE:GREGORIAN
METHOD:PUBLISH
X-WR-CALNAME:DIOCESI DI ROMA
X-ORIGINAL-URL:https://www.diocesidiroma.it
X-WR-CALDESC:Eventi per DIOCESI DI ROMA
BEGIN:VEVENT
DTSTART;VALUE=DATE:20230409
DTEND;VALUE=DATE:20230410
DTSTAMP:20260425T001705
CREATED:20230330T100137Z
LAST-MODIFIED:20230330T100137Z
UID:25860-1680998400-1681084799@www.diocesidiroma.it
SUMMARY:Pasqua di Resurrezione
DESCRIPTION:Pasqua di Resurrezione \n
URL:https://www.diocesidiroma.it/event/pasqua-di-resurrezione-2/
CATEGORIES:In Diocesi,Ricorrenze
END:VEVENT
END:VCALENDAR