BEGIN:VCALENDAR
VERSION:2.0
PRODID:-//DIOCESI DI ROMA - ECPv4.6.14.1//NONSGML v1.0//EN
CALSCALE:GREGORIAN
METHOD:PUBLISH
X-WR-CALNAME:DIOCESI DI ROMA
X-ORIGINAL-URL:https://www.diocesidiroma.it
X-WR-CALDESC:Eventi per DIOCESI DI ROMA
BEGIN:VEVENT
DTSTART;VALUE=DATE:20250420
DTEND;VALUE=DATE:20250421
DTSTAMP:20260424T200027
CREATED:20250102T101524Z
LAST-MODIFIED:20250102T101833Z
UID:33071-1745107200-1745193599@www.diocesidiroma.it
SUMMARY:PASQUA DI RESURREZIONE
DESCRIPTION:PASQUA DI RESURREZIONE \n
URL:https://www.diocesidiroma.it/event/pasqua-di-resurrezione-3/
CATEGORIES:In Diocesi,Ricorrenze
END:VEVENT
END:VCALENDAR