BEGIN:VCALENDAR
VERSION:2.0
PRODID:-//DIOCESI DI ROMA - ECPv4.6.14.1//NONSGML v1.0//EN
CALSCALE:GREGORIAN
METHOD:PUBLISH
X-WR-CALNAME:DIOCESI DI ROMA
X-ORIGINAL-URL:https://www.diocesidiroma.it
X-WR-CALDESC:Eventi per DIOCESI DI ROMA
BEGIN:VEVENT
DTSTART;TZID=Europe/Rome:20200926T000000
DTEND;TZID=Europe/Rome:20200926T000000
DTSTAMP:20260421T002930
CREATED:20200917T072250Z
LAST-MODIFIED:20200917T072250Z
UID:11625-1601078400-1601078400@www.diocesidiroma.it
SUMMARY:Passeggiate fotografiche "Laudato si'"
DESCRIPTION:Passeggiate fotografiche “Laudato si'”\, a cura dell’Ufficio per la pastorale del tempo libero\, del turismo e dello sport e del Servizio per la pastorale sociale. \n
URL:https://www.diocesidiroma.it/event/passeggiate-fotografiche-laudato-si/
CATEGORIES:Iniziative degli Uffici
END:VEVENT
END:VCALENDAR