BEGIN:VCALENDAR
VERSION:2.0
PRODID:-//DIOCESI DI ROMA - ECPv4.6.14.1//NONSGML v1.0//EN
CALSCALE:GREGORIAN
METHOD:PUBLISH
X-WR-CALNAME:DIOCESI DI ROMA
X-ORIGINAL-URL:https://www.diocesidiroma.it
X-WR-CALDESC:Eventi per DIOCESI DI ROMA
BEGIN:VEVENT
DTSTART;TZID=Europe/Rome:20181011T000000
DTEND;TZID=Europe/Rome:20181014T000000
DTSTAMP:20260422T065752
CREATED:20180912T125449Z
LAST-MODIFIED:20180912T125449Z
UID:4387-1539216000-1539475200@www.diocesidiroma.it
SUMMARY:Pellegrinaggio a Fatima
DESCRIPTION:Pellegrinaggio a Fatima. \n
URL:https://www.diocesidiroma.it/event/pellegrinaggio-a-fatima/
CATEGORIES:In Diocesi
END:VEVENT
END:VCALENDAR