BEGIN:VCALENDAR
VERSION:2.0
PRODID:-//DIOCESI DI ROMA - ECPv4.6.14.1//NONSGML v1.0//EN
CALSCALE:GREGORIAN
METHOD:PUBLISH
X-WR-CALNAME:DIOCESI DI ROMA
X-ORIGINAL-URL:https://www.diocesidiroma.it
X-WR-CALDESC:Eventi per DIOCESI DI ROMA
BEGIN:VEVENT
DTSTART;VALUE=DATE:20221015
DTEND;VALUE=DATE:20221016
DTSTAMP:20260421T124702
CREATED:20221013T105717Z
LAST-MODIFIED:20221013T110107Z
UID:23321-1665792000-1665878399@www.diocesidiroma.it
SUMMARY:Pellegrinaggio a piedi - Dalla Chiesa Nuova all'Isola Tiberina passando per San Pietro (Uff. Cultura e Università)
DESCRIPTION:Pellegrinaggio a piedi – Dalla Chiesa Nuova all’Isola Tiberina passando per San Pietro (Uff. Cultura e Università) \n
URL:https://www.diocesidiroma.it/event/pellegrinaggio-a-piedi-dalla-chiesa-nuova-allisola-tiberina-passando-per-san-pietro-uff-cultura-e-universita/
CATEGORIES:In Diocesi,Iniziative degli Uffici
END:VEVENT
END:VCALENDAR