BEGIN:VCALENDAR
VERSION:2.0
PRODID:-//DIOCESI DI ROMA - ECPv4.6.14.1//NONSGML v1.0//EN
CALSCALE:GREGORIAN
METHOD:PUBLISH
X-WR-CALNAME:DIOCESI DI ROMA
X-ORIGINAL-URL:https://www.diocesidiroma.it
X-WR-CALDESC:Eventi per DIOCESI DI ROMA
BEGIN:VEVENT
DTSTART;TZID=Europe/Rome:20260425T000000
DTEND;TZID=Europe/Rome:20260503T000000
DTSTAMP:20260421T121427
CREATED:20251021T091619Z
LAST-MODIFIED:20251021T091648Z
UID:38048-1777075200-1777766400@www.diocesidiroma.it
SUMMARY:Pellegrinaggio biblico in Grecia
DESCRIPTION:Pellegrinaggio biblico in Grecia  (Uff. Cultura) \n
URL:https://www.diocesidiroma.it/event/pellegrinaggio-biblico-in-grecia/
CATEGORIES:Cammino Sinodale
END:VEVENT
END:VCALENDAR