BEGIN:VCALENDAR
VERSION:2.0
PRODID:-//DIOCESI DI ROMA - ECPv4.6.14.1//NONSGML v1.0//EN
CALSCALE:GREGORIAN
METHOD:PUBLISH
X-WR-CALNAME:DIOCESI DI ROMA
X-ORIGINAL-URL:https://www.diocesidiroma.it
X-WR-CALDESC:Eventi per DIOCESI DI ROMA
BEGIN:VEVENT
DTSTART;TZID=Europe/Rome:20231216T143000
DTEND;TZID=Europe/Rome:20231216T190000
DTSTAMP:20260424T193731
CREATED:20231115T142708Z
LAST-MODIFIED:20231115T142708Z
UID:27933-1702737000-1702753200@www.diocesidiroma.it
SUMMARY:Pellegrinaggio dei cresimati a San Pietro in Vaticano (Uff. catechesi)
DESCRIPTION:Pellegrinaggio dei cresimati a San Pietro in Vaticano (Uff. catechesi) \n
URL:https://www.diocesidiroma.it/event/pellegrinaggio-dei-cresimati-a-san-pietro-in-vaticano-uff-catechesi/
CATEGORIES:In Diocesi,Iniziative degli Uffici
END:VEVENT
END:VCALENDAR