BEGIN:VCALENDAR
VERSION:2.0
PRODID:-//DIOCESI DI ROMA - ECPv4.6.14.1//NONSGML v1.0//EN
CALSCALE:GREGORIAN
METHOD:PUBLISH
X-WR-CALNAME:DIOCESI DI ROMA
X-ORIGINAL-URL:https://www.diocesidiroma.it
X-WR-CALDESC:Eventi per DIOCESI DI ROMA
BEGIN:VEVENT
DTSTART;TZID=Europe/Rome:20190729T000000
DTEND;TZID=Europe/Rome:20190729T000000
DTSTAMP:20260422T092538
CREATED:20181023T141059Z
LAST-MODIFIED:20181023T141059Z
UID:5321-1564358400-1564358400@www.diocesidiroma.it
SUMMARY:Pellegrinaggio dei sacerdoti ad Ars nel centosessantesimo della morte di san Giovanni Maria Vianney
DESCRIPTION:Pellegrinaggio dei sacerdoti ad Ars nel centosessantesimo della morte di san Giovanni Maria Vianney. \n
URL:https://www.diocesidiroma.it/event/pellegrinaggio-dei-sacerdoti-ad-ars-nel-centosessantesimo-della-morte-di-san-giovanni-maria-vianney/
CATEGORIES:In Diocesi
END:VEVENT
END:VCALENDAR